BEGIN:VCALENDAR
VERSION:2.0
PRODID:-//Jr Team Golf - ECPv6.15.20//NONSGML v1.0//EN
CALSCALE:GREGORIAN
METHOD:PUBLISH
X-ORIGINAL-URL:https://jrteamgolf.com
X-WR-CALDESC:Events for Jr Team Golf
REFRESH-INTERVAL;VALUE=DURATION:PT1H
X-Robots-Tag:noindex
X-PUBLISHED-TTL:PT1H
BEGIN:VTIMEZONE
TZID:America/New_York
BEGIN:DAYLIGHT
TZOFFSETFROM:-0500
TZOFFSETTO:-0400
TZNAME:EDT
DTSTART:20210314T070000
END:DAYLIGHT
BEGIN:STANDARD
TZOFFSETFROM:-0400
TZOFFSETTO:-0500
TZNAME:EST
DTSTART:20211107T060000
END:STANDARD
BEGIN:DAYLIGHT
TZOFFSETFROM:-0500
TZOFFSETTO:-0400
TZNAME:EDT
DTSTART:20220313T070000
END:DAYLIGHT
BEGIN:STANDARD
TZOFFSETFROM:-0400
TZOFFSETTO:-0500
TZNAME:EST
DTSTART:20221106T060000
END:STANDARD
BEGIN:DAYLIGHT
TZOFFSETFROM:-0500
TZOFFSETTO:-0400
TZNAME:EDT
DTSTART:20230312T070000
END:DAYLIGHT
BEGIN:STANDARD
TZOFFSETFROM:-0400
TZOFFSETTO:-0500
TZNAME:EST
DTSTART:20231105T060000
END:STANDARD
BEGIN:DAYLIGHT
TZOFFSETFROM:-0500
TZOFFSETTO:-0400
TZNAME:EDT
DTSTART:20240310T070000
END:DAYLIGHT
BEGIN:STANDARD
TZOFFSETFROM:-0400
TZOFFSETTO:-0500
TZNAME:EST
DTSTART:20241103T060000
END:STANDARD
BEGIN:DAYLIGHT
TZOFFSETFROM:-0500
TZOFFSETTO:-0400
TZNAME:EDT
DTSTART:20250309T070000
END:DAYLIGHT
BEGIN:STANDARD
TZOFFSETFROM:-0400
TZOFFSETTO:-0500
TZNAME:EST
DTSTART:20251102T060000
END:STANDARD
BEGIN:DAYLIGHT
TZOFFSETFROM:-0500
TZOFFSETTO:-0400
TZNAME:EDT
DTSTART:20260308T070000
END:DAYLIGHT
BEGIN:STANDARD
TZOFFSETFROM:-0400
TZOFFSETTO:-0500
TZNAME:EST
DTSTART:20261101T060000
END:STANDARD
END:VTIMEZONE
BEGIN:VEVENT
DTSTART;VALUE=DATE:20250518
DTEND;VALUE=DATE:20250615
DTSTAMP:20260422T090718
CREATED:20250402T184602Z
LAST-MODIFIED:20250506T124511Z
UID:4713-1747526400-1749945599@jrteamgolf.com
SUMMARY:Jr Team Golf - 2025 Summer 1 Program
DESCRIPTION:2025 Summer 1 Program  (May 18 – June 14) \nJTG Training and Competitions \nTraining Location: Pine Creek Golf Center – 2379 Duncan Ave   Allison Park PA 15101 \n4 – 90 Minute Group Training Sessions – 1 per week. \nGroup Size – 16 Kids per group with 2 Instructors. Instruction covers all aspects of the game. \nTraining Day/Time and Start Date – Select when Registering \n*Please note: Training sessions that are rained out will be made up on the following Friday at the same time or by adding a week to the schedule. \nSelect “Training Day” from the following options when registering: \n\nSundays 10:00am -11:30am. Starts May 18\nMondays 5:15-6:45pm – Starts May 19\nTuesdays 5:15-6:45pm – Starts May 20\nWednesdays 5:15-6:45pm – Starts May 21\nThursdays 5:15-6:45pm – Starts May 22\nCompetitions Only – First Competition Saturday May 24\n\nCompetitions \nLocation: Clover Hill Golf Course – 2200 Reis Run Rd. 15237 \n\nWeekly – 4 Saturday competitions starting May 24 and ending June 14. If there is a rain out we will have a makeup on June 21.\nBy Tee Times – Begin at 10am to 12pm. Each Available Player will receive their tee time on Thursday prior to competition. Plan 2 hours from tee time to completion.\nVariety of Team Formats plus Individual Championship by Age Division. \nBeginners and young players will compete from an age appropriate tee location.\nPlayers Age 7-8 Play 7 Hole competitions.\nGreens Fee Paid to Clover Hill the day of each competition (estimated – $15)\n\nJTG Investment Options \n\nTraining plus 4 Competitions $390 plus Greens Fee paid the day of each competition ($15)\nTraining plus 3 Competitions $350 plus Greens Fee paid the day of each competition ($15)\nTraining plus 2 Competitions $300 plus Greens Fee paid the day of each competition ($15)\n\n\n4 Competitions Only (No Training) $200 plus Greens Fee paid the day of each competition ($15)\n3 Competitions Only (No Training) $150 plus Greens Fee paid the day of each competition ($15)\n2 Competitions Only (No Training) $100 plus Greens Fee paid the day of each competition ($15)
URL:https://jrteamgolf.com/event/jr-team-golf-2025-summer-1-program/
LOCATION:Pine Creek Golf Center\, 2379 Duncan Ave\, Allison Park\, PA\, 15101\, United States
CATEGORIES:JTG Summer 1 Program
ORGANIZER;CN="Gregor Meyer":MAILTO:gfmeyer50@gmail.com
END:VEVENT
BEGIN:VEVENT
DTSTART;VALUE=DATE:20240526
DTEND;VALUE=DATE:20240623
DTSTAMP:20260422T090718
CREATED:20240320T171425Z
LAST-MODIFIED:20240514T124337Z
UID:4530-1716681600-1719100799@jrteamgolf.com
SUMMARY:Jr Team Golf - 2024 Summer 1 Program
DESCRIPTION:2024 Summer 1 Program  (May 26 – June 22) \nJTG Training and Competitions \nTraining Location: Pine Creek Golf Center – 2379 Duncan Ave   Allison Park PA 15101 \n4 – 90 Minute Group Training Sessions – 1 per week. \nGroup Size – 16 Kids per group with 2 Instructors. Instruction covers all aspects of the game. \nTraining Day/Time and Start Date – Select when Registering \n*Please note: Training sessions that are rained out will be made up on the following Friday at the same time or by adding a week to the schedule. \nSelect “Training Day” from the following options when registering: \n\nSundays 10:45am -12:15pm. Starts May 26\nMondays 5:15-6:45pm – Starts May 27\nTuesdays 5:15-6:45pm – Starts May 28\nWednesdays 5:15-6:45pm – Starts May 29\nThursdays 5:15-6:45pm – Starts May 30\nCompetitions Only – First Competition Saturday June 1\n\nCompetitions \nLocation: Clover Hill Golf Course – 2200 Reis Run Rd. 15237 \n\nWeekly – 4 Saturday competitions starting June 1 and ending June 22. If there is a rain out we will have a makeup on June 29.\nBy Tee Times – Begin at 10am to 12pm. Each Available Player will receive their tee time on Thursday prior to competition. Plan 2 hours from tee time to completion.\nVariety of Team Formats plus Individual Championship by Age Division. \nBeginners and young players will compete from an age appropriate tee location.\nPlayers Age 7-8 Play 7 Hole competitions.\nGreens Fee Paid to Clover Hill the day of each competition ($14)\n\nJTG Investment Options \n\nTraining plus 4 Competitions $380 plus Greens Fee paid the day of each competition ($14)\nTraining plus 3 Competitions $335 plus Greens Fee paid the day of each competition ($14)\nTraining plus 2 Competitions $290 plus Greens Fee paid the day of each competition ($14)\n\n\n4 Competitions Only (No Training) $190 plus Greens Fee paid the day of each competition ($14)\n3 Competitions Only (No Training) $143 plus Greens Fee paid the day of each competition ($14)\n2 Competitions Only (No Training) $95 plus Greens Fee paid the day of each competition ($14)
URL:https://jrteamgolf.com/event/jr-team-golf-2024-summer-1-program/
LOCATION:Pine Creek Golf Center\, 2379 Duncan Ave\, Allison Park\, PA\, 15101\, United States
CATEGORIES:JTG Summer 1 Program
ORGANIZER;CN="Gregor Meyer":MAILTO:gfmeyer50@gmail.com
END:VEVENT
BEGIN:VEVENT
DTSTART;VALUE=DATE:20230521
DTEND;VALUE=DATE:20230618
DTSTAMP:20260422T090718
CREATED:20230315T132025Z
LAST-MODIFIED:20230515T170731Z
UID:4373-1684627200-1687046399@jrteamgolf.com
SUMMARY:Jr Team Golf - 2023 Summer 1 Program
DESCRIPTION:2023 Summer 1 Program: May 21-June 17 \nJTG Training and Competitions \nTraining Location: Pine Creek Golf Center – 2379 Duncan Ave   Allison Park PA 15101 \n4 – 90 Minute Group Training Sessions – 1 per week. \nGroup Size – 16 Kids per group with 2 Instructors. Instruction covers all aspects of the game. \nTraining Day/Time and Start Date – Select when Registering \n*Please note: Training sessions that are rained out will be made up on the following Friday at the same time or by adding a week to the schedule. \nSelect “Training Day” from the following options when registering: \n\nSundays 10:45am-12:15pm – Starts May 21\nMondays 5:15-6:45pm – Starts May 22\nTuesdays 5:15-6:45pm – Starts May 23\nWednesdays 5:15-6:45pm – Starts May 24\nThursdays 5:15-6:45pm – Starts May 25\nCompetitions Only – First Competition Saturday May 27\n\nCompetitions \nLocation: Clover Hill Golf Course – 2200 Reis Run Rd. 15237 \n\nWeekly – 4 Saturday competitions starting May 27 and ending June 17. If there is a rain out we will have a makeup on June 24.\nBy Tee Times – Begin at 10am to 12pm. Each Available Player will receive their tee time on Thursday prior to competition. Plan 2 hours from tee time to completion.\nVariety of Team Formats plus Individual Championship by Age Division. \nBeginners and young players will compete from an age appropriate tee location.\nPlayers Age 7-8 – Play 7 Hole competitions.\nGreens Fee Paid to Clover Hill the day of each competition ($12)\n\nJTG Investment Options \n\nTraining plus 4 Competitions $350 plus Greens Fee paid the day of each competition ($12)\n\n\nTraining plus 2 Competitions $270 plus Greens Fee paid the day of each competition ($12)\n4 Competitions Only (No Training) $180 plus Greens Fee paid the day of each competition ($12)\n2 Competitions Only (No Training) $90 plus Greens Fee paid the day of each competition ($12)
URL:https://jrteamgolf.com/event/jr-team-golf-2023-summer-1-program/
LOCATION:Pine Creek Golf Center\, 2379 Duncan Ave\, Allison Park\, PA\, 15101\, United States
CATEGORIES:JTG Summer 1 Program
ORGANIZER;CN="Gregor Meyer":MAILTO:gfmeyer50@gmail.com
END:VEVENT
BEGIN:VEVENT
DTSTART;VALUE=DATE:20220605
DTEND;VALUE=DATE:20220710
DTSTAMP:20260422T090718
CREATED:20220424T201508Z
LAST-MODIFIED:20220525T154217Z
UID:4233-1654387200-1657411199@jrteamgolf.com
SUMMARY:Jr Team Golf - 2022 Summer 1 Program
DESCRIPTION:2022 Summer 1 Program – June 5 to July 9 \nJTG Training and Competitions \nTraining Location: Pine Creek Golf Center – 2379 Duncan Ave   Allison Park PA 15101 \n5 – 90 Minute Group Training Sessions – 1 per week. \nGroup Size – 16 Kids per group with 2 Instructors. Instruction covers all aspects of the game. \nTraining Day/Time and Start Date – Select when Registering \n*Please note: Training sessions that are rained out will be made up on the following Friday at the same time or by adding a week to the schedule. \nSelect from the from the following when registering: \n\nSundays 10am -11:30am. Starts June 5\nSundays 11:45am -1:15pm. Starts June 5\nMondays 5:15-6:45pm – Starts June 6 (No training July 4th – Makeup is Friday July 8)\nTuesdays 5:15-6:45pm – Starts June 7\nWednesdays 5:15-6:45pm – Starts June 8\nThursdays 5:15-6:45pm – Starts June 9\nSelect Saturdays for No Training – Competitions Only – Starts June 11\n\nCompetitions \nLocation: Clover Hill Golf Course – 2200 Reis Run Rd. 15237 \n\nWeekly – 5 Saturday competitions starting June 11 and ending July 9. If there is a rain out we will continue on Saturday’s until 5 competitions are completed.\nBy Tee Times – Begin at 10am to 12pm. Each Available Player will receive their tee time on Thursday prior to competition. Plan 2 hours from tee time to completion.\nVariety of Team Formats plus Individual Championship by Age Division. \nBeginners and young players will compete from an age appropriate tee location.\nPlayers Age 7-8 Play 7 Hole competitions.\nGreens Fee for Clover Hill collected at the first tee the day of each competition ($12)\n\nJTG Investment Options \n\nTraining plus 5 Weekly Competitions $390 plus Greens Fee paid the day of each competition ($12)\n\n\nTraining plus 3 Weekly Competitions $320 plus Greens Fee paid the day of each competition ($12)\n5 Competitions Only (No Training) $200 plus Greens Fee paid the day of each competition ($12)\n3 Competitions Only (No Training) $120 plus Greens Fee paid the day of each competition ($12)
URL:https://jrteamgolf.com/event/jr-team-golf-2022-summer-1-program/
LOCATION:Pine Creek Golf Center\, 2379 Duncan Ave\, Allison Park\, PA\, 15101\, United States
CATEGORIES:JTG Summer 1 Program
ORGANIZER;CN="Gregor Meyer":MAILTO:gfmeyer50@gmail.com
END:VEVENT
END:VCALENDAR