BEGIN:VCALENDAR
VERSION:2.0
PRODID:-//Jr Team Golf - ECPv6.15.20//NONSGML v1.0//EN
CALSCALE:GREGORIAN
METHOD:PUBLISH
X-ORIGINAL-URL:https://jrteamgolf.com
X-WR-CALDESC:Events for Jr Team Golf
REFRESH-INTERVAL;VALUE=DURATION:PT1H
X-Robots-Tag:noindex
X-PUBLISHED-TTL:PT1H
BEGIN:VTIMEZONE
TZID:America/New_York
BEGIN:DAYLIGHT
TZOFFSETFROM:-0500
TZOFFSETTO:-0400
TZNAME:EDT
DTSTART:20220313T070000
END:DAYLIGHT
BEGIN:STANDARD
TZOFFSETFROM:-0400
TZOFFSETTO:-0500
TZNAME:EST
DTSTART:20221106T060000
END:STANDARD
BEGIN:DAYLIGHT
TZOFFSETFROM:-0500
TZOFFSETTO:-0400
TZNAME:EDT
DTSTART:20230312T070000
END:DAYLIGHT
BEGIN:STANDARD
TZOFFSETFROM:-0400
TZOFFSETTO:-0500
TZNAME:EST
DTSTART:20231105T060000
END:STANDARD
BEGIN:DAYLIGHT
TZOFFSETFROM:-0500
TZOFFSETTO:-0400
TZNAME:EDT
DTSTART:20240310T070000
END:DAYLIGHT
BEGIN:STANDARD
TZOFFSETFROM:-0400
TZOFFSETTO:-0500
TZNAME:EST
DTSTART:20241103T060000
END:STANDARD
BEGIN:DAYLIGHT
TZOFFSETFROM:-0500
TZOFFSETTO:-0400
TZNAME:EDT
DTSTART:20250309T070000
END:DAYLIGHT
BEGIN:STANDARD
TZOFFSETFROM:-0400
TZOFFSETTO:-0500
TZNAME:EST
DTSTART:20251102T060000
END:STANDARD
BEGIN:DAYLIGHT
TZOFFSETFROM:-0500
TZOFFSETTO:-0400
TZNAME:EDT
DTSTART:20260308T070000
END:DAYLIGHT
BEGIN:STANDARD
TZOFFSETFROM:-0400
TZOFFSETTO:-0500
TZNAME:EST
DTSTART:20261101T060000
END:STANDARD
END:VTIMEZONE
BEGIN:VEVENT
DTSTART;VALUE=DATE:20250727
DTEND;VALUE=DATE:20250824
DTSTAMP:20260423T133236
CREATED:20250402T191332Z
LAST-MODIFIED:20250404T141440Z
UID:4720-1753574400-1755993599@jrteamgolf.com
SUMMARY:Jr Team Golf - 2025 Summer 3 Program
DESCRIPTION:2025 Summer 3 Program  (July 27 – August 23) \nJTG Training and Competitions \nTraining Location: Pine Creek Golf Center – 2379 Duncan Ave   Allison Park PA 15101 \n4 – 90 Minute Group Training Sessions – 1 per week. \nGroup Size – 16 Kids per group with 2 Instructors. Instruction covers all aspects of the game. \nTraining Day/Time and Start Date – Select when Registering \n*Please note: Training sessions that are rained out will be made up on the following Friday at the same time or by adding a week to the schedule. \nSelect “Training Day” from the following options when registering: \n\nSundays 10:00am -11:30am. Starts July 27\nMondays 5:15-6:45pm – Starts July 28\nTuesdays 5:15-6:45pm – Starts July 29\nWednesdays 5:15-6:45pm – Starts July 30\nThursdays 5:15-6:45pm – Starts July 31\nCompetitions Only – First Competition Saturday Aug 2\n\nCompetitions \nLocation: Clover Hill Golf Course – 2200 Reis Run Rd. 15237 \n\nWeekly – 4 Saturday competitions starting Aug 2 and ending Aug 23. If there is a rain out we will have a makeup on Aug 30.\nBy Tee Times – Begin at 10am to 12pm. Each Available Player will receive their tee time on Thursday prior to competition. Plan 2 hours from tee time to completion.\nVariety of Team Formats plus Individual Championship by Age Division. \nBeginners and young players will compete from an age appropriate tee location.\nPlayers Age 7-8 Play 7 Hole competitions.\nGreens Fee Paid to Clover Hill the day of each competition (estimated – $15)\n\nJTG Investment Options \n\nTraining plus 4 Competitions $390 plus Greens Fee paid the day of each competition ($15)\nTraining plus 3 Competitions $350 plus Greens Fee paid the day of each competition ($15)\nTraining plus 2 Competitions $300 plus Greens Fee paid the day of each competition ($15)\n\n\n4 Competitions Only (No Training) $200 plus Greens Fee paid the day of each competition ($15)\n3 Competitions Only (No Training) $150 plus Greens Fee paid the day of each competition ($15)\n2 Competitions Only (No Training) $100 plus Greens Fee paid the day of each competition ($15)
URL:https://jrteamgolf.com/event/jr-team-golf-2025-summer-3-program/
LOCATION:Pine Creek Golf Center\, 2379 Duncan Ave\, Allison Park\, PA\, 15101\, United States
CATEGORIES:JTG Summer 3 Program
ORGANIZER;CN="Gregor Meyer":MAILTO:gfmeyer50@gmail.com
END:VEVENT
BEGIN:VEVENT
DTSTART;VALUE=DATE:20240728
DTEND;VALUE=DATE:20240825
DTSTAMP:20260423T133236
CREATED:20240320T180113Z
LAST-MODIFIED:20240712T115757Z
UID:4537-1722124800-1724543999@jrteamgolf.com
SUMMARY:Jr Team Golf - 2024 Summer 3 Program
DESCRIPTION:2024 Summer 3 Program  (July 28-August 24) \nJTG Training and Competitions \nTraining Location: Pine Creek Golf Center – 2379 Duncan Ave   Allison Park PA 15101 \n4 – 90 Minute Group Training Sessions – 1 per week. \nGroup Size – 16 Kids per group with 2 Instructors. Instruction covers all aspects of the game. \nTraining Day/Time and Start Date – Select when Registering \n*Please note: Training sessions that are rained out will be made up on the following Friday at the same time or by adding a week to the schedule. \nSelect “Training Day” from the following options when registering: \n\nSundays 10:45am -12:15pm. Starts July 28\nMondays 5:15-6:45pm – Starts July 29\nTuesdays 5:15-6:45pm – Starts July 30\nWednesdays 5:15-6:45pm – Starts July 31\nThursdays 5:15-6:45pm – Starts Aug 1\nCompetitions Only – First Competition Saturday Aug 3\n\nCompetitions \nLocation: Clover Hill Golf Course – 2200 Reis Run Rd. 15237 \n\nWeekly – 4 Saturday competitions starting Aug 3 and ending Aug 24. If there is a rain out we will have a makeup on Aug 31.\nBy Tee Times – Begin at 10am to 12pm. Each Available Player will receive their tee time on Thursday prior to competition. Plan 2 hours from tee time to completion.\nVariety of Team Formats plus Individual Championship by Age Division. \nBeginners and young players will compete from an age appropriate tee location.\nPlayers Age 7-8 Play 7 Hole competitions.\nGreens Fee Paid to Clover Hill the day of each competition ($14 ).\n\nJTG Investment Options \n\nTraining plus 4 Competitions $380 plus Greens Fee paid the day of each competition ($14)\nTraining plus 3 Competitions $335 plus Greens Fee paid the day of each competition ($14)\nTraining plus 2 Competitions $290 plus Greens Fee paid the day of each competition ($14)\n\n\n4 Competitions Only (No Training) $190 plus Greens Fee paid the day of each competition ($14)\n3 Competitions Only (No Training) $143 plus Greens Fee paid the day of each competition ($14)\n2 Competitions Only (No Training) $95 plus Greens Fee paid the day of each competition ($14)
URL:https://jrteamgolf.com/event/jr-team-golf-2024-summer-3-program/
LOCATION:Pine Creek Golf Center\, 2379 Duncan Ave\, Allison Park\, PA\, 15101\, United States
CATEGORIES:JTG Summer 3 Program
ORGANIZER;CN="Gregor Meyer":MAILTO:gfmeyer50@gmail.com
END:VEVENT
BEGIN:VEVENT
DTSTART;VALUE=DATE:20230730
DTEND;VALUE=DATE:20230827
DTSTAMP:20260423T133236
CREATED:20230315T134811Z
LAST-MODIFIED:20230724T175046Z
UID:4382-1690675200-1693094399@jrteamgolf.com
SUMMARY:Jr Team Golf - 2023 Summer 3 Program
DESCRIPTION:2023 Summer 3 Program: July 30-August 26 \nJTG Training and Competitions \nFor Boys and Girls Age 7-14 years. \nTraining Location: Pine Creek Golf Center – 2379 Duncan Ave   Allison Park PA 15101 \n4 – 90 Minute Group Training Sessions – 1 per week. \nGroup Size – 16 Kids per group with 2 Instructors. Instruction covers all aspects of the game. \nTraining Day/Time and Start Date – Select when Registering \n*Please note: Training sessions that are rained out will be made up on the following Friday at the same time or by adding a week to the schedule. \nSelect “Training Day” from the following options when registering: \n\nSundays 10:45am-12:15pm – Starts July 30\nMondays 5:15-6:45pm – Starts July 31\nTuesdays 5:15-6:45pm – Starts Aug 1\nWednesdays 5:15-6:45pm – Starts Aug 2\nThursdays 5:15-6:45pm – Starts Aug 3\nCompetitions Only – First Competition Saturday Aug 5\n\nCompetitions \nLocation: Clover Hill Golf Course – 2200 Reis Run Rd. 15237 \n\nWeekly – 4 Saturday competitions starting Aug 5 and ending Aug 26. If there is a rain out we will have a makeup on Sep 2.\nBy Tee Times – Begin at 10am to 12pm. Each Available Player will receive their tee time on Thursday prior to competition. Plan 2 hours from tee time to completion.\nVariety of Team Formats plus Individual Championship by Age Division. \nBeginners and young players will compete from an age appropriate tee location.\nPlayers Age 7-8 – Play 7 Hole competitions.\nGreens Fee Paid to Clover Hill the day of each competition ($12)\n\nJTG Investment Options \n\nTraining plus 4 Competitions $350 plus Greens Fee paid the day of each competition ($12)\n\n\nTraining plus 2 Competitions $270 plus Greens Fee paid the day of each competition ($12)\n4 Competitions Only (No Training) $180 plus Greens Fee paid the day of each competition ($12)\n2 Competitions Only (No Training) $90 plus Greens Fee paid the day of each competition ($12)
URL:https://jrteamgolf.com/event/jr-team-golf-2023-summer-3-program/
LOCATION:Pine Creek Golf Center\, 2379 Duncan Ave\, Allison Park\, PA\, 15101\, United States
CATEGORIES:JTG Summer 3 Program
ORGANIZER;CN="Gregor Meyer":MAILTO:gfmeyer50@gmail.com
END:VEVENT
END:VCALENDAR